BEGIN:VCALENDAR
VERSION:2.0
PRODID:-//Golfe Saint-Tropez//Events//FR
CALSCALE:GREGORIAN
METHOD:PUBLISH
BEGIN:VEVENT
UID:69e82c1e0c307@golfe-saint-tropez.com
DTSTAMP:20260422T020206Z
DTSTART:20260604T183416
DTEND:20260607T183416
SUMMARY:Concours de sauts international – Jumping juin
DESCRIPTION:Avis aux passionnés d’équitation et aux amoureux des grands spectacles sportifs ! Le Golfe de Saint-Tropez vibre au rythme des […]\n\nPlus d'infos : https://golfe-saint-tropez.com/evenement/gassin/concours-de-sauts-international-jumping-juin/
LOCATION:Polo Club - Haras de Gassin 1999\, route du Bourrian 83580 Gassin
STATUS:CONFIRMED
SEQUENCE:0
END:VEVENT
END:VCALENDAR
