BEGIN:VCALENDAR
VERSION:2.0
PRODID:-//Golfe Saint-Tropez//Events//FR
CALSCALE:GREGORIAN
METHOD:PUBLISH
BEGIN:VEVENT
UID:69e8439a741ca@golfe-saint-tropez.com
DTSTAMP:20260422T034218Z
DTSTART:20260528T183357
DTEND:20260531T183357
SUMMARY:Concours de sauts international – Jumping mai
DESCRIPTION:Ne manquez pas l’un des événements les plus prestigieux de la saison sur la Côte d’Azur ! Le Concours de […]\n\nPlus d'infos : https://golfe-saint-tropez.com/evenement/gassin/concours-de-sauts-international-jumping-mai/
LOCATION:Polo Club - Haras de Gassin 1999\, route du Bourrian 83580 Gassin
STATUS:CONFIRMED
SEQUENCE:0
END:VEVENT
END:VCALENDAR
