BEGIN:VCALENDAR
VERSION:2.0
PRODID:-//Golfe Saint-Tropez//Events//FR
CALSCALE:GREGORIAN
METHOD:PUBLISH
BEGIN:VEVENT
UID:69e7e2523ff03@golfe-saint-tropez.com
DTSTAMP:20260421T204714Z
DTSTART:20261015T162946
DTEND:20261024T162946
SUMMARY:Concours de sauts international – jumping octobre
DESCRIPTION:Préparez-vous à vibrer lors de l’un des événements sportifs les plus prestigieux de la saison automnale ! Le Concours de […]\n\nPlus d'infos : https://golfe-saint-tropez.com/evenement/gassin/concours-de-sauts-international-jumping-octobre-2/
LOCATION:Polo Club - Haras de Gassin 1999\, route du Bourrian 83580 Gassin
STATUS:CONFIRMED
SEQUENCE:0
END:VEVENT
END:VCALENDAR
