BEGIN:VCALENDAR
VERSION:2.0
PRODID:-//Golfe Saint-Tropez//Events//FR
CALSCALE:GREGORIAN
METHOD:PUBLISH
BEGIN:VEVENT
UID:69e808dd8203d@golfe-saint-tropez.com
DTSTAMP:20260421T233141Z
DTSTART:20260917T183714
DTEND:20260927T183714
SUMMARY:Concours de sauts international – jumping septembre
DESCRIPTION:Vivez l’adrénaline de l’équitation de haut niveau au cœur du prestigieux Golfe de Saint-Tropez ! La commune de Gassin est […]\n\nPlus d'infos : https://golfe-saint-tropez.com/evenement/gassin/concours-de-sauts-international-jumping-septembre/
LOCATION:Polo Club - Haras de Gassin 1999\, route du Bourrian 83580 Gassin
STATUS:CONFIRMED
SEQUENCE:0
END:VEVENT
END:VCALENDAR
