BEGIN:VCALENDAR
VERSION:2.0
PRODID:-//Golfe Saint-Tropez//Events//FR
CALSCALE:GREGORIAN
METHOD:PUBLISH
BEGIN:VEVENT
UID:69e4bffb63fba@golfe-saint-tropez.com
DTSTAMP:20260419T114355Z
DTSTART:20260516T101258
DTEND:20260517T101258
SUMMARY:Créativité et bien-être au jardin de Gassin
DESCRIPTION:Plongez dans une parenthèse naturelle et inspirante avec l’événement Créativité et bien-être au jardin de Gassin\, une escapade idéale pour […]\n\nPlus d'infos : https://golfe-saint-tropez.com/evenement/gassin/creativite-et-bien-etre-au-jardin-de-gassin/
LOCATION:323\, chemin de Pimpinon Accès par la RD559 83580 Gassin
STATUS:CONFIRMED
SEQUENCE:0
END:VEVENT
END:VCALENDAR
