BEGIN:VCALENDAR
VERSION:2.0
PRODID:-//Golfe Saint-Tropez//Events//FR
CALSCALE:GREGORIAN
METHOD:PUBLISH
BEGIN:VEVENT
UID:69e88d04e4593@golfe-saint-tropez.com
DTSTAMP:20260422T085532Z
DTSTART:20260719T000000
DTEND:20260719T000000
SUMMARY:Festival d’été 2026 – Aqua Récré kid’s
DESCRIPTION:Plongez dans la magie de l’été au cœur du Golfe de Saint-Tropez avec le Festival d’été 2026 – Aqua Récré […]\n\nPlus d'infos : https://golfe-saint-tropez.com/evenement/gassin/festival-dete-2026-aqua-recre-kids/
LOCATION:Aire de Loisirs\, place Léon Martel\, 83580 Gassin
STATUS:CONFIRMED
SEQUENCE:0
END:VEVENT
END:VCALENDAR
