BEGIN:VCALENDAR
VERSION:2.0
PRODID:-//Golfe Saint-Tropez//Events//FR
CALSCALE:GREGORIAN
METHOD:PUBLISH
BEGIN:VEVENT
UID:69e88d5bd8a41@golfe-saint-tropez.com
DTSTAMP:20260422T085659Z
DTSTART:20260717T183000
DTEND:20260814T230000
SUMMARY:Festival d’été 2026 – les marchés de Zabou
DESCRIPTION:Plongez dans l’ambiance envoûtante des marchés de Zabou\, un événement incontournable du Golfe de Saint-Tropez cet été 2026 ! Chaque […]\n\nPlus d'infos : https://golfe-saint-tropez.com/evenement/gassin/festival-dete-2026-les-marches-de-zabou/
LOCATION:Place Dei Barri\, Gassin village\, 83580 Gassin
STATUS:CONFIRMED
SEQUENCE:0
END:VEVENT
END:VCALENDAR
