BEGIN:VCALENDAR
VERSION:2.0
PRODID:-//Golfe Saint-Tropez//Events//FR
CALSCALE:GREGORIAN
METHOD:PUBLISH
BEGIN:VEVENT
UID:69e4cab08f17f@golfe-saint-tropez.com
DTSTAMP:20260419T122936Z
DTSTART:20260710T000000
DTEND:20260814T000000
SUMMARY:Festival d’été 2026-Les Marchés Nocturnes de Zabou
DESCRIPTION:Plongez dans l’ambiance envoûtante des Marchés Nocturnes de Zabou\, un événement incontournable de l’été dans le Golfe de Saint-Tropez ! […]\n\nPlus d'infos : https://golfe-saint-tropez.com/evenement/gassin/festival-dete-2026-les-marches-nocturnes-de-zabou/
LOCATION:Place Dei Barri\, 83580 Gassin
STATUS:CONFIRMED
SEQUENCE:0
END:VEVENT
END:VCALENDAR
