BEGIN:VCALENDAR
VERSION:2.0
PRODID:-//Golfe Saint-Tropez//Events//FR
CALSCALE:GREGORIAN
METHOD:PUBLISH
BEGIN:VEVENT
UID:69e8a0c78bfac@golfe-saint-tropez.com
DTSTAMP:20260422T101951Z
DTSTART:20260808T111706
DTEND:20260809T111706
SUMMARY:Fête de la Saint-Laurent
DESCRIPTION:Plongez au cœur des traditions provençales lors de la vibrante Fête de la Saint-Laurent à Gassin ! Cet événement annuel […]\n\nPlus d'infos : https://golfe-saint-tropez.com/evenement/gassin/fete-de-la-saint-laurent-2/
LOCATION:À confirmer (Gassin)
STATUS:CONFIRMED
SEQUENCE:0
END:VEVENT
END:VCALENDAR
