BEGIN:VCALENDAR
VERSION:2.0
PRODID:-//Golfe Saint-Tropez//Events//FR
CALSCALE:GREGORIAN
METHOD:PUBLISH
BEGIN:VEVENT
UID:69eb7a5af15e4@golfe-saint-tropez.com
DTSTAMP:20260424T141242Z
DTSTART:20260808T100000
DTEND:20260809T112909
SUMMARY:Fête de la Saint-Laurent
DESCRIPTION:Ne manquez pas le rendez-vous traditionnel de l’été provençal ! Le village perché de Gassin\, labellisé parmi les Plus Beaux […]\n\nPlus d'infos : https://golfe-saint-tropez.com/evenement/gassin/fete-de-la-saint-laurent/
LOCATION:Centre du village de Gassin\, 83580 Gassin
STATUS:CONFIRMED
SEQUENCE:0
END:VEVENT
END:VCALENDAR
