BEGIN:VCALENDAR
VERSION:2.0
PRODID:-//Golfe Saint-Tropez//Events//FR
CALSCALE:GREGORIAN
METHOD:PUBLISH
BEGIN:VEVENT
UID:69e74b41d11cc@golfe-saint-tropez.com
DTSTAMP:20260421T100241Z
DTSTART:20260524T000000
DTEND:20260524T000000
SUMMARY:Kid’s Gassinoise – Récré Kid’s 2026
DESCRIPTION:Plongez vos enfants dans une journée magique au cœur du Golfe de Saint-Tropez avec la Kid’s Gassinoise – Récré Kid’s […]\n\nPlus d'infos : https://golfe-saint-tropez.com/evenement/gassin/kids-gassinoise-recre-kids-2026/
LOCATION:Aire de Loisirs\, place Léon Martel\, 83580 Gassin
STATUS:CONFIRMED
SEQUENCE:0
END:VEVENT
END:VCALENDAR
