BEGIN:VCALENDAR
VERSION:2.0
PRODID:-//Golfe Saint-Tropez//Events//FR
CALSCALE:GREGORIAN
METHOD:PUBLISH
BEGIN:VEVENT
UID:69e88ad1a6737@golfe-saint-tropez.com
DTSTAMP:20260422T084609Z
DTSTART:20260501T111641
DTEND:20260501T111641
SUMMARY:La Fête de la bière
DESCRIPTION:Prêts pour une ambiance festive digne de l’Oktoberfest sous le soleil du Var ? Ne manquez pas cet événement incontournable […]\n\nPlus d'infos : https://golfe-saint-tropez.com/evenement/gassin/la-fete-de-la-biere/
LOCATION:Gassin (Lieu exact à confirmer)
STATUS:CONFIRMED
SEQUENCE:0
END:VEVENT
END:VCALENDAR
