BEGIN:VCALENDAR
VERSION:2.0
PRODID:-//Golfe Saint-Tropez//Events//FR
CALSCALE:GREGORIAN
METHOD:PUBLISH
BEGIN:VEVENT
UID:69e4cab1133cc@golfe-saint-tropez.com
DTSTAMP:20260419T122937Z
DTSTART:20260725T000000
DTEND:20260725T000000
SUMMARY:La fièvre des années 80\, 90\, 2000
DESCRIPTION:Plongez dans la nostalgie des décennies légendaires avec La fièvre des années 80\, 90\, 2000\, un événement incontournable du Golfe […]\n\nPlus d'infos : https://golfe-saint-tropez.com/evenement/gassin/la-fievre-des-annees-80-90-2000/
LOCATION:Aire de Loisirs\, place Léon Martel\, 83580 Gassin
STATUS:CONFIRMED
SEQUENCE:0
END:VEVENT
END:VCALENDAR
