BEGIN:VCALENDAR
VERSION:2.0
PRODID:-//Golfe Saint-Tropez//Events//FR
CALSCALE:GREGORIAN
METHOD:PUBLISH
BEGIN:VEVENT
UID:69e4d00be840b@golfe-saint-tropez.com
DTSTAMP:20260419T125227Z
DTSTART:20260627T000000
DTEND:20260627T000000
SUMMARY:La nuit romantique des plus beaux villages de France 2026
DESCRIPTION:Plongez dans l’atmosphère envoûtante de la Nuit Romantique des Plus Beaux Villages de France\, un événement magique qui illuminera Gassin […]\n\nPlus d'infos : https://golfe-saint-tropez.com/evenement/gassin/la-nuit-romantique-des-plus-beaux-villages-de-france-2026/
LOCATION:Gassin\, Place de la Mairie\, 83580 Gassin (Var\, France)
STATUS:CONFIRMED
SEQUENCE:0
END:VEVENT
END:VCALENDAR
