BEGIN:VCALENDAR
VERSION:2.0
PRODID:-//Golfe Saint-Tropez//Events//FR
CALSCALE:GREGORIAN
METHOD:PUBLISH
BEGIN:VEVENT
UID:69e88d04e496a@golfe-saint-tropez.com
DTSTAMP:20260422T085532Z
DTSTART:20260502T161747
DTEND:20260503T161747
SUMMARY:Le Festival du Barbecue
DESCRIPTION:Préparez vos tabliers et vos papilles : le Festival du Barbecue débarque à Gassin pour une célébration gourmande au cœur […]\n\nPlus d'infos : https://golfe-saint-tropez.com/evenement/gassin/le-festival-du-barbecue/
LOCATION:Chemin de Caruby 83580 Gassin
STATUS:CONFIRMED
SEQUENCE:0
END:VEVENT
END:VCALENDAR
