BEGIN:VCALENDAR
VERSION:2.0
PRODID:-//Golfe Saint-Tropez//Events//FR
CALSCALE:GREGORIAN
METHOD:PUBLISH
BEGIN:VEVENT
UID:69e7e285cb1dd@golfe-saint-tropez.com
DTSTAMP:20260421T204805Z
DTSTART:20260706T000000
DTEND:20260831T235959
SUMMARY:Les balades gourmandes : visite guidée et dégustation gratuite
DESCRIPTION:Le 6 juillet 2026\, préparez vos papilles et vos chaussures de marche pour une expérience immersive unique dans le sublime […]\n\nPlus d'infos : https://golfe-saint-tropez.com/evenement/gassin/les-balades-gourmandes-visite-guidee-et-degustation-gratuite/
LOCATION:Mairie de Gassin\, Place de la Mairie\, 83580 Gassin
STATUS:CONFIRMED
SEQUENCE:0
END:VEVENT
END:VCALENDAR
