BEGIN:VCALENDAR
VERSION:2.0
PRODID:-//Golfe Saint-Tropez//Events//FR
CALSCALE:GREGORIAN
METHOD:PUBLISH
BEGIN:VEVENT
UID:69e7e2d3717d8@golfe-saint-tropez.com
DTSTAMP:20260421T204923Z
DTSTART:20251201T000000
DTEND:20261130T000000
SUMMARY:Les Secrets de Gassin — jeu de piste découverte pour les enfants de 6-14 ans dans le golfe de Saint-Tropez
DESCRIPTION:Cherchez-vous une activité ludique et éducative pour vos enfants dans un cadre provençal exceptionnel ? L’événement « Les Secrets de Gassin » […]\n\nPlus d'infos : https://golfe-saint-tropez.com/evenement/gassin/les-secrets-de-gassin-jeu-de-piste-decouverte-pour-les-enfants-de-6-14-ans-dans-le-golfe-de-saint-tropez-3/
LOCATION:Gassin\, Var\, France
STATUS:CONFIRMED
SEQUENCE:0
END:VEVENT
END:VCALENDAR
