BEGIN:VCALENDAR
VERSION:2.0
PRODID:-//Golfe Saint-Tropez//Events//FR
CALSCALE:GREGORIAN
METHOD:PUBLISH
BEGIN:VEVENT
UID:69e88cb2e001c@golfe-saint-tropez.com
DTSTAMP:20260422T085410Z
DTSTART:20260725T000000
DTEND:20260725T000000
SUMMARY:Sensation 2000
DESCRIPTION:Plongez dans l’ambiance électrisante des années 2000 avec l’événement Sensation 2000\, une soirée dansante incontournable au cœur du Golfe de […]\n\nPlus d'infos : https://golfe-saint-tropez.com/evenement/gassin/sensation-2000/
LOCATION:Aire de Loisirs\, place Léon Martel\, 83580 Gassin
STATUS:CONFIRMED
SEQUENCE:0
END:VEVENT
END:VCALENDAR
