BEGIN:VCALENDAR
VERSION:2.0
PRODID:-//Golfe Saint-Tropez//Events//FR
CALSCALE:GREGORIAN
METHOD:PUBLISH
BEGIN:VEVENT
UID:69e4e2b3d7269@golfe-saint-tropez.com
DTSTAMP:20260419T141203Z
DTSTART:20260820T132831
DTEND:20260829T132831
SUMMARY:Tournoi de polo – Federations cup
DESCRIPTION:Plongez dans l’élégance sportive avec le Tournoi de polo – Federations Cup\, un événement incontournable du Golfe de Saint-Tropez ! […]\n\nPlus d'infos : https://golfe-saint-tropez.com/evenement/gassin/tournoi-de-polo-federations-cup/
LOCATION:Polo Club - Haras de Gassin 1999\, route du Bourrian 83580 Gassin
STATUS:CONFIRMED
SEQUENCE:0
END:VEVENT
END:VCALENDAR
