BEGIN:VCALENDAR
VERSION:2.0
PRODID:-//Golfe Saint-Tropez//Events//FR
CALSCALE:GREGORIAN
METHOD:PUBLISH
BEGIN:VEVENT
UID:69e4cc33e9873@golfe-saint-tropez.com
DTSTAMP:20260419T123603Z
DTSTART:20260903T132724
DTEND:20260913T132724
SUMMARY:Tournoi de polo – Open du soleil
DESCRIPTION:Vivez l’élégance et l’intensité du polo lors du Tournoi de polo – Open du soleil\, un événement incontournable du Golfe […]\n\nPlus d'infos : https://golfe-saint-tropez.com/evenement/gassin/tournoi-de-polo-open-du-soleil/
LOCATION:Polo Club - Haras de Gassin 1999\, route du Bourrian 83580 Gassin
STATUS:CONFIRMED
SEQUENCE:0
END:VEVENT
END:VCALENDAR
