BEGIN:VCALENDAR
VERSION:2.0
PRODID:-//Golfe Saint-Tropez//Events//FR
CALSCALE:GREGORIAN
METHOD:PUBLISH
BEGIN:VEVENT
UID:69e4cc845608c@golfe-saint-tropez.com
DTSTAMP:20260419T123724Z
DTSTART:20260903T132522
DTEND:20260913T132522
SUMMARY:Tournoi de polo – Women polo series
DESCRIPTION:Vivez une expérience sportive et élégante au cœur du Golfe de Saint-Tropez avec le tournoi de polo Women Polo Series […]\n\nPlus d'infos : https://golfe-saint-tropez.com/evenement/gassin/tournoi-de-polo-women-polo-series/
LOCATION:Polo Club - Haras de Gassin 1999\, route du Bourrian 83580 Gassin
STATUS:CONFIRMED
SEQUENCE:0
END:VEVENT
END:VCALENDAR
