BEGIN:VCALENDAR
VERSION:2.0
PRODID:-//Golfe Saint-Tropez//Events//FR
CALSCALE:GREGORIAN
METHOD:PUBLISH
BEGIN:VEVENT
UID:69e842afe2766@golfe-saint-tropez.com
DTSTAMP:20260422T033823Z
DTSTART:20261213T161518
DTEND:20261213T161518
SUMMARY:13 Déc Marché Noël bio éthique  
DESCRIPTION:Plongez dans l’esprit des fêtes avec le Marché de Noël bio et éthique de Grimaud\, un événement incontournable du Golfe […]\n\nPlus d'infos : https://golfe-saint-tropez.com/evenement/grimaud/13-dec-marche-noel-bio-ethique/
LOCATION:Place de l'église\, Place de l'église\, 83310 Grimaud
STATUS:CONFIRMED
SEQUENCE:0
END:VEVENT
END:VCALENDAR
