BEGIN:VCALENDAR
VERSION:2.0
PRODID:-//Golfe Saint-Tropez//Events//FR
CALSCALE:GREGORIAN
METHOD:PUBLISH
BEGIN:VEVENT
UID:69eb27ca8dfda@golfe-saint-tropez.com
DTSTAMP:20260424T082026Z
DTSTART:20260605T161205
DTEND:20260607T161205
SUMMARY:14ème Salon livre jeunesse  
DESCRIPTION:Plongez dans l’univers magique des livres pour enfants au 14ème Salon du livre jeunesse de Grimaud\, un événement incontournable du […]\n\nPlus d'infos : https://golfe-saint-tropez.com/evenement/grimaud/14eme-salon-livre-jeunesse/
LOCATION:Salle Beausoleil\, 850 route Nationale\, 83310 Grimaud
STATUS:CONFIRMED
SEQUENCE:0
END:VEVENT
END:VCALENDAR
