BEGIN:VCALENDAR
VERSION:2.0
PRODID:-//Golfe Saint-Tropez//Events//FR
CALSCALE:GREGORIAN
METHOD:PUBLISH
BEGIN:VEVENT
UID:69e7f7a6f0b28@golfe-saint-tropez.com
DTSTAMP:20260421T221814Z
DTSTART:20260919T161815
DTEND:20260920T161815
SUMMARY:19 Journées Européennes Patrimoine
DESCRIPTION:Plongez au cœur de l’histoire et de la culture du Golfe de Saint-Tropez lors des 19ᵉ Journées Européennes du Patrimoine […]\n\nPlus d'infos : https://golfe-saint-tropez.com/evenement/grimaud/19-journees-europeennes-patrimoine/
LOCATION:Grimaud Village\, Dans le village\, 83310 Grimaud
STATUS:CONFIRMED
SEQUENCE:0
END:VEVENT
END:VCALENDAR
