BEGIN:VCALENDAR
VERSION:2.0
PRODID:-//Golfe Saint-Tropez//Events//FR
CALSCALE:GREGORIAN
METHOD:PUBLISH
BEGIN:VEVENT
UID:69e4dd6025996@golfe-saint-tropez.com
DTSTAMP:20260419T134920Z
DTSTART:20260721T180000
DTEND:20260721T180000
SUMMARY:21 Juil Journée Rose Provence
DESCRIPTION:Plongez dans l’ambiance colorée et solidaire du Golfe de Saint-Tropez avec la Journée Rose Provence à Grimaud\, le 21 juillet […]\n\nPlus d'infos : https://golfe-saint-tropez.com/evenement/grimaud/21-juil-journee-rose-provence/
LOCATION:Place Neuve\, 83310 Grimaud
STATUS:CONFIRMED
SEQUENCE:0
END:VEVENT
END:VCALENDAR
