BEGIN:VCALENDAR
VERSION:2.0
PRODID:-//Golfe Saint-Tropez//Events//FR
CALSCALE:GREGORIAN
METHOD:PUBLISH
BEGIN:VEVENT
UID:69eba131b70aa@golfe-saint-tropez.com
DTSTAMP:20260424T165825Z
DTSTART:20260101T131350
DTEND:20261231T131350
SUMMARY:Activité « renforcement musculaire » au Ranch de la Mène
DESCRIPTION:Commencez la journée du bon pied et boostez votre énergie au cœur du Var ! Le Golfe de Saint-Tropez n’est […]\n\nPlus d'infos : https://golfe-saint-tropez.com/evenement/grimaud/activite-renforcement-musculaire-au-ranch-de-la-mene/
LOCATION:Ranch de la Mène\, Grimaud
STATUS:CONFIRMED
SEQUENCE:0
END:VEVENT
END:VCALENDAR
