BEGIN:VCALENDAR
VERSION:2.0
PRODID:-//Golfe Saint-Tropez//Events//FR
CALSCALE:GREGORIAN
METHOD:PUBLISH
BEGIN:VEVENT
UID:69ebc7570fd4a@golfe-saint-tropez.com
DTSTAMP:20260424T194111Z
DTSTART:20260501T000000
DTEND:20260501T000000
SUMMARY:Anniversaire de l’Escandihado
DESCRIPTION:Plongez au cœur des traditions provençales lors de l’anniversaire de l’Escandihado\, un événement incontournable du Golfe de Saint-Tropez ! Le […]\n\nPlus d'infos : https://golfe-saint-tropez.com/evenement/grimaud/anniversaire-de-lescandihado/
LOCATION:Grimaud Village\, Dans le village\, 83310 Grimaud
STATUS:CONFIRMED
SEQUENCE:0
END:VEVENT
END:VCALENDAR
