BEGIN:VCALENDAR
VERSION:2.0
PRODID:-//Golfe Saint-Tropez//Events//FR
CALSCALE:GREGORIAN
METHOD:PUBLISH
BEGIN:VEVENT
UID:69e4c4717bb52@golfe-saint-tropez.com
DTSTAMP:20260419T120257Z
DTSTART:20260518T093949
DTEND:20260930T093949
SUMMARY:Art Urbain – Festival street art  
DESCRIPTION:Plongez dans l’univers coloré du street art lors du Festival Art Urbain à Grimaud\, un événement incontournable du Golfe de […]\n\nPlus d'infos : https://golfe-saint-tropez.com/evenement/grimaud/art-urbain-festival-street-art/
LOCATION:village\, 83310 Grimaud
STATUS:CONFIRMED
SEQUENCE:0
END:VEVENT
END:VCALENDAR
