BEGIN:VCALENDAR
VERSION:2.0
PRODID:-//Golfe Saint-Tropez//Events//FR
CALSCALE:GREGORIAN
METHOD:PUBLISH
BEGIN:VEVENT
UID:69e50dc670c6d@golfe-saint-tropez.com
DTSTAMP:20260419T171550Z
DTSTART:20260425T000000
DTEND:20260425T000000
SUMMARY:Atelier jardinière de fraisiers à Villaverde
DESCRIPTION:Et si vous initiiez vos enfants au plaisir du jardinage tout en profitant d’un cadre enchanteur dans le Golfe de […]\n\nPlus d'infos : https://golfe-saint-tropez.com/evenement/grimaud/atelier-jardiniere-de-fraisiers-a-villaverde/
LOCATION:Villaverde Rocchietta\, RD559\, Route du Littoral\, 83310 Grimaud
STATUS:CONFIRMED
SEQUENCE:0
END:VEVENT
END:VCALENDAR
