BEGIN:VCALENDAR
VERSION:2.0
PRODID:-//Golfe Saint-Tropez//Events//FR
CALSCALE:GREGORIAN
METHOD:PUBLISH
BEGIN:VEVENT
UID:69e4fbc62f88d@golfe-saint-tropez.com
DTSTAMP:20260419T155902Z
DTSTART:20260530T120000
DTEND:20260530T120000
SUMMARY:Bouillabaisse Domaine Val Gilly  
DESCRIPTION:Plongez dans l’authentique saveur de la Provence lors de la Bouillabaisse au Domaine Val Gilly\, un événement incontournable du Golfe […]\n\nPlus d'infos : https://golfe-saint-tropez.com/evenement/grimaud/bouillabaisse-domaine-val-gilly/
LOCATION:Domaine du Val de Gilly\, Route du Val de Gilly\, 83310 Grimaud
STATUS:CONFIRMED
SEQUENCE:0
END:VEVENT
END:VCALENDAR
