BEGIN:VCALENDAR
VERSION:2.0
PRODID:-//Golfe Saint-Tropez//Events//FR
CALSCALE:GREGORIAN
METHOD:PUBLISH
BEGIN:VEVENT
UID:69e7ccf5699ac@golfe-saint-tropez.com
DTSTAMP:20260421T191605Z
DTSTART:20260503T060000
DTEND:20260503T160000
SUMMARY:Brocante du Mas de Bagatin à Grimaud – 3 mai 2026
DESCRIPTION:Rendez-vous tous les dimanches de l’année\, de 6h à 16h\, au Mas de Bagatin près de la Chapelle Notre Dame […]\n\nPlus d'infos : https://golfe-saint-tropez.com/evenement/grimaud/brocante-du-mas-de-bagatin-a-grimaud-2026-05-03/
LOCATION:Mas de Bagatin\, Chemin de Bagatin\, 83310 Grimaud
STATUS:CONFIRMED
SEQUENCE:0
END:VEVENT
END:VCALENDAR
