BEGIN:VCALENDAR
VERSION:2.0
PRODID:-//Golfe Saint-Tropez//Events//FR
CALSCALE:GREGORIAN
METHOD:PUBLISH
BEGIN:VEVENT
UID:69e7f69240b53@golfe-saint-tropez.com
DTSTAMP:20260421T221338Z
DTSTART:20260609T085735
DTEND:20260609T085735
SUMMARY:Cocktail Europe  
DESCRIPTION:Préparez-vous à une soirée d’exception sur la Côte d’Azur ! Le prestigieux « Cocktail Europe » revient illuminer la charmante commune de […]\n\nPlus d'infos : https://golfe-saint-tropez.com/evenement/grimaud/cocktail-europe/
LOCATION:Lieu précis à confirmer dans la commune de Grimaud
STATUS:CONFIRMED
SEQUENCE:0
END:VEVENT
END:VCALENDAR
