BEGIN:VCALENDAR
VERSION:2.0
PRODID:-//Golfe Saint-Tropez//Events//FR
CALSCALE:GREGORIAN
METHOD:PUBLISH
BEGIN:VEVENT
UID:69e4eea154abd@golfe-saint-tropez.com
DTSTAMP:20260419T150257Z
DTSTART:20260508T100749
DTEND:20260508T100749
SUMMARY:Commémoration 1945  
DESCRIPTION:Chaque année\, Grimaud rend hommage à l’Histoire lors de la Commémoration du 8 mai 1945\, un événement marquant du Golfe […]\n\nPlus d'infos : https://golfe-saint-tropez.com/evenement/grimaud/commemoration-1945/
LOCATION:Rue de la Mairie\, 83310 Grimaud
STATUS:CONFIRMED
SEQUENCE:0
END:VEVENT
END:VCALENDAR
