BEGIN:VCALENDAR
VERSION:2.0
PRODID:-//Golfe Saint-Tropez//Events//FR
CALSCALE:GREGORIAN
METHOD:PUBLISH
BEGIN:VEVENT
UID:69eba2119cc5a@golfe-saint-tropez.com
DTSTAMP:20260424T170209Z
DTSTART:20260815T093000
DTEND:20260815T093000
SUMMARY:Commémoration du 15 août – Débarquement de Provence
DESCRIPTION:Ne manquez pas cet événement solennel et essentiel pour l’histoire du Var. Le 15 août 2026\, la charmante commune de […]\n\nPlus d'infos : https://golfe-saint-tropez.com/evenement/grimaud/commemoration-du-15-aout-debarquement-de-provence/
LOCATION:Lieu de mémoire ou Mairie\, Grimaud\, Var
STATUS:CONFIRMED
SEQUENCE:0
END:VEVENT
END:VCALENDAR
