BEGIN:VCALENDAR
VERSION:2.0
PRODID:-//Golfe Saint-Tropez//Events//FR
CALSCALE:GREGORIAN
METHOD:PUBLISH
BEGIN:VEVENT
UID:69e4d6f36897a@golfe-saint-tropez.com
DTSTAMP:20260419T132155Z
DTSTART:20260618T173000
DTEND:20260618T173000
SUMMARY:Commémoration l’appel Générale Gaulle  
DESCRIPTION:Plongez dans l’Histoire à l’occasion de la commémoration de l’appel du Général de Gaulle\, un événement marquant qui rassemble chaque […]\n\nPlus d'infos : https://golfe-saint-tropez.com/evenement/grimaud/commemoration-lappel-generale-gaulle/
LOCATION:Mairie de Grimaud 83310
STATUS:CONFIRMED
SEQUENCE:0
END:VEVENT
END:VCALENDAR
