BEGIN:VCALENDAR
VERSION:2.0
PRODID:-//Golfe Saint-Tropez//Events//FR
CALSCALE:GREGORIAN
METHOD:PUBLISH
BEGIN:VEVENT
UID:69ebdd93d6cc9@golfe-saint-tropez.com
DTSTAMP:20260424T211603Z
DTSTART:20261111T111500
DTEND:20261111T123000
SUMMARY:Commémoration l’Armistice
DESCRIPTION:Le 11 novembre 2026\, le village historique de Grimaud vous invite à un événement solennel et essentiel : la commémoration […]\n\nPlus d'infos : https://golfe-saint-tropez.com/evenement/grimaud/commemoration-larmistice/
LOCATION:Grimaud\, lieu du Monument aux Morts (à confirmer)
STATUS:CONFIRMED
SEQUENCE:0
END:VEVENT
END:VCALENDAR
