BEGIN:VCALENDAR
VERSION:2.0
PRODID:-//Golfe Saint-Tropez//Events//FR
CALSCALE:GREGORIAN
METHOD:PUBLISH
BEGIN:VEVENT
UID:69e4f2dca0632@golfe-saint-tropez.com
DTSTAMP:20260419T152100Z
DTSTART:20260609T190000
DTEND:20260609T190000
SUMMARY:Conférence – Journée internationale archives  
DESCRIPTION:Plongez dans l’univers fascinant des archives à l’occasion de la Journée internationale des archives\, un événement culturel incontournable dans le […]\n\nPlus d'infos : https://golfe-saint-tropez.com/evenement/grimaud/conference-journee-internationale-archives/
LOCATION:Salle Beausoleil\, 850 route Nationale\, 83310 Grimaud
STATUS:CONFIRMED
SEQUENCE:0
END:VEVENT
END:VCALENDAR
