BEGIN:VCALENDAR
VERSION:2.0
PRODID:-//Golfe Saint-Tropez//Events//FR
CALSCALE:GREGORIAN
METHOD:PUBLISH
BEGIN:VEVENT
UID:69e4cb6f08298@golfe-saint-tropez.com
DTSTAMP:20260419T123247Z
DTSTART:20260109T125645
DTEND:20261225T125645
SUMMARY:Cour d’initiation langue provençale  
DESCRIPTION:Plongez dans la richesse culturelle du Golfe de Saint-Tropez en participant à ce cours d’initiation à la langue provençale\, organisé […]\n\nPlus d'infos : https://golfe-saint-tropez.com/evenement/grimaud/cour-dinitiation-langue-provencale/
LOCATION:Médiathèque de Grimaud\, 850 Route Nationale\, Immeuble Beausoleil - 1er étage\, 83310 Grimaud
STATUS:CONFIRMED
SEQUENCE:0
END:VEVENT
END:VCALENDAR
