BEGIN:VCALENDAR
VERSION:2.0
PRODID:-//Golfe Saint-Tropez//Events//FR
CALSCALE:GREGORIAN
METHOD:PUBLISH
BEGIN:VEVENT
UID:69eb904e50e18@golfe-saint-tropez.com
DTSTAMP:20260424T154622Z
DTSTART:20260516T000000
DTEND:20260731T000000
SUMMARY:Exposition Caroline Guizou’art  
DESCRIPTION:Plongez dans l’univers coloré et poétique de Caroline Guizou’art lors de son exposition à Grimaud\, un événement incontournable du Golfe […]\n\nPlus d'infos : https://golfe-saint-tropez.com/evenement/grimaud/exposition-caroline-guizouart/
LOCATION:Musée du Patrimoine\, 591 route Nationale\, 83310 Grimaud
STATUS:CONFIRMED
SEQUENCE:0
END:VEVENT
END:VCALENDAR
