BEGIN:VCALENDAR
VERSION:2.0
PRODID:-//Golfe Saint-Tropez//Events//FR
CALSCALE:GREGORIAN
METHOD:PUBLISH
BEGIN:VEVENT
UID:69eb28a7b7d38@golfe-saint-tropez.com
DTSTAMP:20260424T082407Z
DTSTART:20260327T123218
DTEND:20260528T123218
SUMMARY:Exposition Catherine Arniac  
DESCRIPTION:Plongez dans l’univers artistique de Catherine Arniac à l’occasion de sa 28ème exposition à Grimaud\, un événement culturel incontournable du […]\n\nPlus d'infos : https://golfe-saint-tropez.com/evenement/grimaud/exposition-catherine-arniac/
LOCATION:Maison des Arcades\, Impasse du Balladou\, Proche de l'Église\, 83310 Grimaud
STATUS:CONFIRMED
SEQUENCE:0
END:VEVENT
END:VCALENDAR
