BEGIN:VCALENDAR
VERSION:2.0
PRODID:-//Golfe Saint-Tropez//Events//FR
CALSCALE:GREGORIAN
METHOD:PUBLISH
BEGIN:VEVENT
UID:69e4c51b4fdc9@golfe-saint-tropez.com
DTSTAMP:20260419T120547Z
DTSTART:20260807T103214
DTEND:20261010T103214
SUMMARY:Exposition  » château  »  
DESCRIPTION:Plongez dans l’histoire médiévale du Golfe de Saint-Tropez en découvrant l’exposition dédiée au château de Grimaud. Cet événement culturel\, organisé […]\n\nPlus d'infos : https://golfe-saint-tropez.com/evenement/grimaud/exposition-chateau/
LOCATION:Musée du Patrimoine\, 591 route Nationale\, 83310 Grimaud
STATUS:CONFIRMED
SEQUENCE:0
END:VEVENT
END:VCALENDAR
