BEGIN:VCALENDAR
VERSION:2.0
PRODID:-//Golfe Saint-Tropez//Events//FR
CALSCALE:GREGORIAN
METHOD:PUBLISH
BEGIN:VEVENT
UID:69e4e21296d32@golfe-saint-tropez.com
DTSTAMP:20260419T140922Z
DTSTART:20261017T103922
DTEND:20261213T103922
SUMMARY:Exposition « Métiers santons »  
DESCRIPTION:Plongez dans l’univers magique des santons provençaux lors de l’exposition « Métiers santons » à Grimaud\, un événement incontournable du Golfe de […]\n\nPlus d'infos : https://golfe-saint-tropez.com/evenement/grimaud/exposition-metiers-santons/
LOCATION:Musée du Patrimoine\, 591 route Nationale\, 83310 Grimaud
STATUS:CONFIRMED
SEQUENCE:0
END:VEVENT
END:VCALENDAR
