BEGIN:VCALENDAR
VERSION:2.0
PRODID:-//Golfe Saint-Tropez//Events//FR
CALSCALE:GREGORIAN
METHOD:PUBLISH
BEGIN:VEVENT
UID:69e4cc167dfc5@golfe-saint-tropez.com
DTSTAMP:20260419T123534Z
DTSTART:20260213T162346
DTEND:20260425T162346
SUMMARY:Exposition « République » Gérard Rondeau  
DESCRIPTION:Plongez dans l’univers captivant de Gérard Rondeau à travers son exposition « République »\, un événement culturel incontournable du Golfe de Saint-Tropez. […]\n\nPlus d'infos : https://golfe-saint-tropez.com/evenement/grimaud/exposition-republique-gerard-rondeau/
LOCATION:Musée du Patrimoine\, 591 route Nationale\, 83310 Grimaud
STATUS:CONFIRMED
SEQUENCE:0
END:VEVENT
END:VCALENDAR
