BEGIN:VCALENDAR
VERSION:2.0
PRODID:-//Golfe Saint-Tropez//Events//FR
CALSCALE:GREGORIAN
METHOD:PUBLISH
BEGIN:VEVENT
UID:69e4f823724ea@golfe-saint-tropez.com
DTSTAMP:20260419T154331Z
DTSTART:20260724T190000
DTEND:20260930T122852
SUMMARY:Exposition Sunny Sandhu  
DESCRIPTION:Plongez dans l’univers artistique de Sunny Sandhu lors de son exposition exclusive au cœur du Golfe de Saint-Tropez. Le 24 […]\n\nPlus d'infos : https://golfe-saint-tropez.com/evenement/grimaud/exposition-sunny-sandhu/
LOCATION:Maison des Arcades\, Impasse du Balladou\, Proche de l'Église\, 83310 Grimaud
STATUS:CONFIRMED
SEQUENCE:0
END:VEVENT
END:VCALENDAR
