BEGIN:VCALENDAR
VERSION:2.0
PRODID:-//Golfe Saint-Tropez//Events//FR
CALSCALE:GREGORIAN
METHOD:PUBLISH
BEGIN:VEVENT
UID:69e7f61bd979a@golfe-saint-tropez.com
DTSTAMP:20260421T221139Z
DTSTART:20260721T161951
DTEND:20260811T161951
SUMMARY:Festival  » Grimaldines »  
DESCRIPTION:Plongez dans l’univers artistique du Festival des Grimaldines\, un événement incontournable du Golfe de Saint-Tropez qui anime chaque été le […]\n\nPlus d'infos : https://golfe-saint-tropez.com/evenement/grimaud/festival-grimaldines/
LOCATION:château de grimaud 83310 Grimaud
STATUS:CONFIRMED
SEQUENCE:0
END:VEVENT
END:VCALENDAR
