BEGIN:VCALENDAR
VERSION:2.0
PRODID:-//Golfe Saint-Tropez//Events//FR
CALSCALE:GREGORIAN
METHOD:PUBLISH
BEGIN:VEVENT
UID:69e50ece15029@golfe-saint-tropez.com
DTSTAMP:20260419T172014Z
DTSTART:20260613T122720
DTEND:20260930T122720
SUMMARY:Festival sculptures monumentales – exposition « Echo »  
DESCRIPTION:Plongez dans l’art contemporain au cœur du Golfe de Saint-Tropez avec le Festival de sculptures monumentales – exposition « Echo » à […]\n\nPlus d'infos : https://golfe-saint-tropez.com/evenement/grimaud/festival-sculptures-monumentales-exposition-echo/
LOCATION:Grimaud Village\, Dans le village\, 83310 Grimaud
STATUS:CONFIRMED
SEQUENCE:0
END:VEVENT
END:VCALENDAR
