BEGIN:VCALENDAR
VERSION:2.0
PRODID:-//Golfe Saint-Tropez//Events//FR
CALSCALE:GREGORIAN
METHOD:PUBLISH
BEGIN:VEVENT
UID:69eba0534e3d9@golfe-saint-tropez.com
DTSTAMP:20260424T165443Z
DTSTART:20260905T000000
DTEND:20260905T000000
SUMMARY:Fête du Sport à Grimaud
DESCRIPTION:Plongez dans l’univers sportif du Golfe de Saint-Tropez à l’occasion de la Fête du Sport à Grimaud\, un événement incontournable […]\n\nPlus d'infos : https://golfe-saint-tropez.com/evenement/grimaud/fete-du-sport-a-grimaud/
LOCATION:Complexe sportif des Blaquières\, 834 route des Blaquières\, 83310 Grimaud
STATUS:CONFIRMED
SEQUENCE:0
END:VEVENT
END:VCALENDAR
