BEGIN:VCALENDAR
VERSION:2.0
PRODID:-//Golfe Saint-Tropez//Events//FR
CALSCALE:GREGORIAN
METHOD:PUBLISH
BEGIN:VEVENT
UID:69e830e741e59@golfe-saint-tropez.com
DTSTAMP:20260422T022231Z
DTSTART:20261214T161704
DTEND:20261214T161704
SUMMARY:Fête Lumière Grimaud
DESCRIPTION:Plongez dans la magie des fêtes de fin d’année avec la Fête de la Lumière à Grimaud\, un événement incontournable […]\n\nPlus d'infos : https://golfe-saint-tropez.com/evenement/grimaud/fete-lumiere-grimaud/
LOCATION:Place Vieille\, Place Vieille\, 83310 Grimaud
STATUS:CONFIRMED
SEQUENCE:0
END:VEVENT
END:VCALENDAR
