BEGIN:VCALENDAR
VERSION:2.0
PRODID:-//Golfe Saint-Tropez//Events//FR
CALSCALE:GREGORIAN
METHOD:PUBLISH
BEGIN:VEVENT
UID:69eb91157c787@golfe-saint-tropez.com
DTSTAMP:20260424T154941Z
DTSTART:20260815T223000
DTEND:20260815T223000
SUMMARY:Feu d’artifice du 15 août à
DESCRIPTION:Envie d’une soirée spectaculaire sur la Côte d’Azur ? Ne cherchez plus ! Le traditionnel feu d’artifice du 15 août […]\n\nPlus d'infos : https://golfe-saint-tropez.com/evenement/grimaud/feu-dartifice-du-15-aout-a/
LOCATION:Commune de Grimaud (Var)\, zone de lancement côtière probable (Port Grimaud)
STATUS:CONFIRMED
SEQUENCE:0
END:VEVENT
END:VCALENDAR
