BEGIN:VCALENDAR
VERSION:2.0
PRODID:-//Golfe Saint-Tropez//Events//FR
CALSCALE:GREGORIAN
METHOD:PUBLISH
BEGIN:VEVENT
UID:69eb28a7a91be@golfe-saint-tropez.com
DTSTAMP:20260424T082407Z
DTSTART:20260623T000000
DTEND:20260623T000000
SUMMARY:Feux Saint-Jean  
DESCRIPTION:Célébrez l’arrivée de l’été sous le signe de la tradition avec les Feux de la Saint-Jean à Grimaud ! Chaque […]\n\nPlus d'infos : https://golfe-saint-tropez.com/evenement/grimaud/feux-saint-jean/
LOCATION:Les Feux de la Saint-Jean\, 83310 Grimaud
STATUS:CONFIRMED
SEQUENCE:0
END:VEVENT
END:VCALENDAR
